BEGIN:VCALENDAR
VERSION:2.0
PRODID:-//Saudi Society for Clinical Chemistry - ECPv6.14.2//NONSGML v1.0//EN
CALSCALE:GREGORIAN
METHOD:PUBLISH
X-ORIGINAL-URL:https://sscc.med.sa
X-WR-CALDESC:Events for Saudi Society for Clinical Chemistry
REFRESH-INTERVAL;VALUE=DURATION:PT1H
X-Robots-Tag:noindex
X-PUBLISHED-TTL:PT1H
BEGIN:VTIMEZONE
TZID:Asia/Riyadh
BEGIN:STANDARD
TZOFFSETFROM:+0300
TZOFFSETTO:+0300
TZNAME:+03
DTSTART:20210101T000000
END:STANDARD
END:VTIMEZONE
BEGIN:VEVENT
DTSTART;TZID=Asia/Riyadh:20230228T190000
DTEND;TZID=Asia/Riyadh:20230228T200000
DTSTAMP:20260425T233858
CREATED:20230226T184521Z
LAST-MODIFIED:20230310T080811Z
UID:5805-1677610800-1677614400@sscc.med.sa
SUMMARY:ندوة توعوية: الأمراض الوراثية الاستقلابية
DESCRIPTION:
URL:https://sscc.med.sa/event/%d9%86%d8%af%d9%88%d8%a9-%d8%aa%d9%88%d8%b9%d9%88%d9%8a%d8%a9-%d8%a7%d9%84%d8%a3%d9%85%d8%b1%d8%a7%d8%b6-%d8%a7%d9%84%d9%88%d8%b1%d8%a7%d8%ab%d9%8a%d8%a9-%d8%a7%d9%84%d8%a7%d8%b3%d8%aa%d9%82%d9%84/
ATTACH;FMTTYPE=image/png:https://sscc.med.sa/wp-content/uploads/2023/02/Webinar-Poster-8.png
ORGANIZER;CN="Saudi Society for Clinical Chemistry":MAILTO:info@sscc.med.sa
END:VEVENT
BEGIN:VEVENT
DTSTART;TZID=Asia/Riyadh:20221210T090000
DTEND;TZID=Asia/Riyadh:20221210T150000
DTSTAMP:20260425T233858
CREATED:20221207T164959Z
LAST-MODIFIED:20221210T053550Z
UID:5495-1670662800-1670684400@sscc.med.sa
SUMMARY:Seminar: Wellness Through Food
DESCRIPTION:
URL:https://sscc.med.sa/event/seminar-wellness-through-food/
ATTACH;FMTTYPE=image/jpeg:https://sscc.med.sa/wp-content/uploads/2022/12/25b85231-c9f3-4445-a41d-e49bf3eb5d9c-1.jpg
ORGANIZER;CN="Saudi Society for Clinical Chemistry":MAILTO:info@sscc.med.sa
END:VEVENT
BEGIN:VEVENT
DTSTART;TZID=Asia/Riyadh:20221206T080000
DTEND;TZID=Asia/Riyadh:20221208T170000
DTSTAMP:20260425T233858
CREATED:20220805T194533Z
LAST-MODIFIED:20221205T160657Z
UID:4985-1670313600-1670518800@sscc.med.sa
SUMMARY:8th Annual Conference SSCC 2022 & 4th International Meeting on Clinical Chemistry and Laboratory Medicine
DESCRIPTION:
URL:https://sscc.med.sa/event/8th-annual-conference-sscc-2022-4th-international-meeting-on-clinical-chemistry-and-laboratory-medicine/
LOCATION:Crowne Plaza RDC\, Unit 4، Imam Saud Ibn Abdul Aziz Road\, Riyadh\, Riyadh\, 12382\, Saudi Arabia
ATTACH;FMTTYPE=image/png:https://sscc.med.sa/wp-content/uploads/2022/08/4rd-International-Meeting-v3.png
ORGANIZER;CN="Saudi Society for Clinical Chemistry":MAILTO:info@sscc.med.sa
END:VEVENT
BEGIN:VEVENT
DTSTART;TZID=Asia/Riyadh:20221115T190000
DTEND;TZID=Asia/Riyadh:20221115T200000
DTSTAMP:20260425T233858
CREATED:20221112T183921Z
LAST-MODIFIED:20221112T183921Z
UID:5039-1668538800-1668542400@sscc.med.sa
SUMMARY:ندوة توعوية: مرض السكري والأطفال
DESCRIPTION:
URL:https://sscc.med.sa/event/%d9%86%d8%af%d9%88%d8%a9-%d8%aa%d9%88%d8%b9%d9%88%d9%8a%d8%a9-%d9%85%d8%b1%d8%b6-%d8%a7%d9%84%d8%b3%d9%83%d8%b1%d9%8a-%d9%88%d8%a7%d9%84%d8%a3%d8%b7%d9%81%d8%a7%d9%84/
ATTACH;FMTTYPE=image/png:https://sscc.med.sa/wp-content/uploads/2022/11/Webinar-Poster-7.png
ORGANIZER;CN="Saudi Society for Clinical Chemistry":MAILTO:info@sscc.med.sa
END:VEVENT
BEGIN:VEVENT
DTSTART;TZID=Asia/Riyadh:20221005T190000
DTEND;TZID=Asia/Riyadh:20221005T210000
DTSTAMP:20260425T233858
CREATED:20221003T145324Z
LAST-MODIFIED:20221003T145324Z
UID:5026-1664996400-1665003600@sscc.med.sa
SUMMARY:Webinar: The Controversy over Different HbA1c as Measured by Different Techniques
DESCRIPTION:
URL:https://sscc.med.sa/event/webinar-the-controversy-over-different-hba1c-as-measured-by-different-techniques/
ATTACH;FMTTYPE=image/jpeg:https://sscc.med.sa/wp-content/uploads/2022/10/6SPOCTA-PSD.jpg
ORGANIZER;CN="Saudi Society for Clinical Chemistry":MAILTO:info@sscc.med.sa
END:VEVENT
BEGIN:VEVENT
DTSTART;TZID=Asia/Riyadh:20220926T190000
DTEND;TZID=Asia/Riyadh:20220926T200000
DTSTAMP:20260425T233858
CREATED:20220925T191714Z
LAST-MODIFIED:20220925T191714Z
UID:5010-1664218800-1664222400@sscc.med.sa
SUMMARY:ندوة توعوية: الفحص المبكر لحديثي الولادة
DESCRIPTION:
URL:https://sscc.med.sa/event/%d9%86%d8%af%d9%88%d8%a9-%d8%aa%d9%88%d8%b9%d9%88%d9%8a%d8%a9-%d8%a7%d9%84%d9%81%d8%ad%d8%b5-%d8%a7%d9%84%d9%85%d8%a8%d9%83%d8%b1-%d9%84%d8%ad%d8%af%d9%8a%d8%ab%d9%8a-%d8%a7%d9%84%d9%88%d9%84%d8%a7/
ATTACH;FMTTYPE=image/png:https://sscc.med.sa/wp-content/uploads/2022/09/Webinar-Poster-6.png
ORGANIZER;CN="Saudi Society for Clinical Chemistry":MAILTO:info@sscc.med.sa
END:VEVENT
BEGIN:VEVENT
DTSTART;TZID=Asia/Riyadh:20220919T190000
DTEND;TZID=Asia/Riyadh:20220919T200000
DTSTAMP:20260425T233858
CREATED:20220918T195702Z
LAST-MODIFIED:20220918T195702Z
UID:5004-1663614000-1663617600@sscc.med.sa
SUMMARY:ندوة توعوية: إعرف قلبك وحافظ عليه
DESCRIPTION:
URL:https://sscc.med.sa/event/%d9%86%d8%af%d9%88%d8%a9-%d8%aa%d9%88%d8%b9%d9%88%d9%8a%d8%a9-%d8%a5%d8%b9%d8%b1%d9%81-%d9%82%d9%84%d8%a8%d9%83-%d9%88%d8%ad%d8%a7%d9%81%d8%b8-%d8%b9%d9%84%d9%8a%d9%87/
ATTACH;FMTTYPE=image/png:https://sscc.med.sa/wp-content/uploads/2022/09/Webinar-Poster-5.png
ORGANIZER;CN="Saudi Society for Clinical Chemistry":MAILTO:info@sscc.med.sa
END:VEVENT
BEGIN:VEVENT
DTSTART;TZID=Asia/Riyadh:20220607T190000
DTEND;TZID=Asia/Riyadh:20220607T210000
DTSTAMP:20260425T233858
CREATED:20220610T153307Z
LAST-MODIFIED:20220610T153416Z
UID:4917-1654628400-1654635600@sscc.med.sa
SUMMARY:Webinar: The Role of SARS-CoV-2 Rapid Antigen POCT Test During the Pandemic
DESCRIPTION:
URL:https://sscc.med.sa/event/webinar-the-role-of-sars-cov-2-rapid-antigen-poct-test-during-the-pandemic/
ATTACH;FMTTYPE=image/jpeg:https://sscc.med.sa/wp-content/uploads/2022/06/5SPOCTA-PSD.jpg
ORGANIZER;CN="Saudi Society for Clinical Chemistry":MAILTO:info@sscc.med.sa
END:VEVENT
BEGIN:VEVENT
DTSTART;TZID=Asia/Riyadh:20220525T210000
DTEND;TZID=Asia/Riyadh:20220602T230000
DTSTAMP:20260425T233858
CREATED:20220708T110018Z
LAST-MODIFIED:20220708T110018Z
UID:4937-1653512400-1654210800@sscc.med.sa
SUMMARY:Workshop: The Importance of CLIA Tests in Diagnosing Disease
DESCRIPTION:
URL:https://sscc.med.sa/event/workshop-the-importance-of-clia-tests-in-diagnosing-disease/
ATTACH;FMTTYPE=image/png:https://sscc.med.sa/wp-content/uploads/2022/05/CLIA-Invitation-AIO-scaled.png
ORGANIZER;CN="Saudi Society for Clinical Chemistry":MAILTO:info@sscc.med.sa
END:VEVENT
BEGIN:VEVENT
DTSTART;TZID=Asia/Riyadh:20220416T220000
DTEND;TZID=Asia/Riyadh:20220416T230000
DTSTAMP:20260425T233858
CREATED:20220413T215410Z
LAST-MODIFIED:20220413T215410Z
UID:4890-1650146400-1650150000@sscc.med.sa
SUMMARY:ندوة توعوية: السكري وصيام رمضان
DESCRIPTION:
URL:https://sscc.med.sa/event/%d9%86%d8%af%d9%88%d8%a9-%d8%aa%d9%88%d8%b9%d9%88%d9%8a%d8%a9-%d8%a7%d9%84%d8%b3%d9%83%d8%b1%d9%8a-%d9%88%d8%b5%d9%8a%d8%a7%d9%85-%d8%b1%d9%85%d8%b6%d8%a7%d9%86/
ATTACH;FMTTYPE=image/jpeg:https://sscc.med.sa/wp-content/uploads/2022/04/Webinar-Poster-4.jpg
ORGANIZER;CN="Saudi Society for Clinical Chemistry":MAILTO:info@sscc.med.sa
END:VEVENT
BEGIN:VEVENT
DTSTART;TZID=Asia/Riyadh:20220407T180000
DTEND;TZID=Asia/Riyadh:20220408T040000
DTSTAMP:20260425T233858
CREATED:20220402T120007Z
LAST-MODIFIED:20220402T220039Z
UID:4876-1649354400-1649390400@sscc.med.sa
SUMMARY:Innovations and Advancements in Point-Of-Care Blood Gas Testing
DESCRIPTION:
URL:https://sscc.med.sa/event/innovation-and-advancements-in-point-of-care-blood-gas-testing/
ATTACH;FMTTYPE=image/jpeg:https://sscc.med.sa/wp-content/uploads/2022/04/858af4e0-1f9e-40a6-b176-75c535a095b5.jpg
ORGANIZER;CN="Saudi Society for Clinical Chemistry":MAILTO:info@sscc.med.sa
END:VEVENT
BEGIN:VEVENT
DTSTART;TZID=Asia/Riyadh:20220331T080000
DTEND;TZID=Asia/Riyadh:20220331T160000
DTSTAMP:20260425T233858
CREATED:20220319T164202Z
LAST-MODIFIED:20220319T170353Z
UID:4760-1648713600-1648742400@sscc.med.sa
SUMMARY:Laboratory International Day: Accreditation\, Quality and Diagnosis
DESCRIPTION:
URL:https://sscc.med.sa/event/laboratory-international-day-accreditation-quality-and-diagnosis/
LOCATION:intercontinental jeddah\, Al Hamra\, Corniche\, 21531\, Jeddah\, 21531\, Saudi Arabia
ATTACH;FMTTYPE=image/jpeg:https://sscc.med.sa/wp-content/uploads/2022/03/2Seminar-PSD-3.jpg
ORGANIZER;CN="Saudi Society for Clinical Chemistry":MAILTO:info@sscc.med.sa
END:VEVENT
BEGIN:VEVENT
DTSTART;TZID=Asia/Riyadh:20220228T183000
DTEND;TZID=Asia/Riyadh:20220228T193000
DTSTAMP:20260425T233858
CREATED:20220226T094858Z
LAST-MODIFIED:20220319T163123Z
UID:4728-1646073000-1646076600@sscc.med.sa
SUMMARY:ندوة الكترونية: أهمية المختبرات الطبية بالوقاية والحد من الامراض الوراثية
DESCRIPTION:
URL:https://sscc.med.sa/event/%d9%86%d8%af%d9%88%d8%a9-%d8%a7%d9%84%d9%83%d8%aa%d8%b1%d9%88%d9%86%d9%8a%d8%a9-%d8%a3%d9%87%d9%85%d9%8a%d8%a9-%d8%a7%d9%84%d9%85%d8%ae%d8%aa%d8%a8%d8%b1%d8%a7%d8%aa-%d8%a7%d9%84%d8%b7%d8%a8%d9%8a/
ATTACH;FMTTYPE=image/png:https://sscc.med.sa/wp-content/uploads/2022/02/Webinar-Poster-3.png
ORGANIZER;CN="Saudi Society for Clinical Chemistry":MAILTO:info@sscc.med.sa
END:VEVENT
BEGIN:VEVENT
DTSTART;TZID=Asia/Riyadh:20220222T180000
DTEND;TZID=Asia/Riyadh:20220222T200000
DTSTAMP:20260425T233858
CREATED:20220219T103012Z
LAST-MODIFIED:20220319T163230Z
UID:4718-1645552800-1645560000@sscc.med.sa
SUMMARY:Webinar: Culture Free Sepsis Diagnosis
DESCRIPTION:
URL:https://sscc.med.sa/event/webinar-culture-free-sepsis-diagnosis/
ATTACH;FMTTYPE=image/jpeg:https://sscc.med.sa/wp-content/uploads/2022/02/2Webinar-PSD-1.jpg
ORGANIZER;CN="Saudi Society for Clinical Chemistry":MAILTO:info@sscc.med.sa
END:VEVENT
BEGIN:VEVENT
DTSTART;TZID=Asia/Riyadh:20220215T183000
DTEND;TZID=Asia/Riyadh:20220215T203000
DTSTAMP:20260425T233858
CREATED:20220212T095832Z
LAST-MODIFIED:20220226T094356Z
UID:4695-1644949800-1644957000@sscc.med.sa
SUMMARY:Webinar: Series Laboratory Biomarkers of Diseases: Growth Hormone Disorders
DESCRIPTION:
URL:https://sscc.med.sa/event/webinar-series-laboratory-biomarkers-of-diseases-growth-hormone-disorders/
ATTACH;FMTTYPE=image/jpeg:https://sscc.med.sa/wp-content/uploads/2022/02/1-SSCC-Webinar-2.15-Growth-Hormone-Disorders-scaled.jpg
ORGANIZER;CN="Saudi Society for Clinical Chemistry":MAILTO:ali-nz@hotmail.com
END:VEVENT
BEGIN:VEVENT
DTSTART;TZID=Asia/Riyadh:20220131T200000
DTEND;TZID=Asia/Riyadh:20220131T220000
DTSTAMP:20260425T233858
CREATED:20220402T115544Z
LAST-MODIFIED:20220402T115544Z
UID:4873-1643659200-1643666400@sscc.med.sa
SUMMARY:Pre-Analytical Issues in Hemostasis Seminar
DESCRIPTION:
URL:https://sscc.med.sa/event/pre-analytical-issues-in-hemostasis-seminar/
ATTACH;FMTTYPE=image/jpeg:https://sscc.med.sa/wp-content/uploads/2022/04/e3d35445-58f5-46e8-8a20-308a96f337e2.jpg
ORGANIZER;CN="Saudi Society for Clinical Chemistry":MAILTO:info@sscc.med.sa
END:VEVENT
BEGIN:VEVENT
DTSTART;TZID=Asia/Riyadh:20211221T203000
DTEND;TZID=Asia/Riyadh:20211221T213000
DTSTAMP:20260425T233858
CREATED:20211219T201416Z
LAST-MODIFIED:20220226T195904Z
UID:4672-1640118600-1640122200@sscc.med.sa
SUMMARY:ندوة الكترونية:  التعريف بمتلازمة نقص المناعة المكتسب
DESCRIPTION:
URL:https://sscc.med.sa/event/%d9%86%d8%af%d9%88%d8%a9-%d8%a7%d9%84%d9%83%d8%aa%d8%b1%d9%88%d9%86%d9%8a%d8%a9-%d8%a7%d9%84%d8%aa%d8%b9%d8%b1%d9%8a%d9%81-%d8%a8%d9%85%d8%aa%d9%84%d8%a7%d8%b2%d9%85%d8%a9-%d9%86%d9%82%d8%b5-%d8%a7/
ATTACH;FMTTYPE=image/jpeg:https://sscc.med.sa/wp-content/uploads/2021/12/image0-2.jpeg
ORGANIZER;CN="Saudi Society for Clinical Chemistry":MAILTO:info@sscc.med.sa
END:VEVENT
BEGIN:VEVENT
DTSTART;TZID=Asia/Riyadh:20211130T080000
DTEND;TZID=Asia/Riyadh:20211203T170000
DTSTAMP:20260425T233858
CREATED:20210906T185345Z
LAST-MODIFIED:20211106T160400Z
UID:3691-1638259200-1638550800@sscc.med.sa
SUMMARY:7th Annual Conference SSCC 2021 &  3rd International Meeting on Clinical Chemistry and Laboratory Medicine
DESCRIPTION:
URL:https://sscc.med.sa/event/7th-annual-conference-sscc-2021-3rd-international-meeting-on-clinical-chemistry-and-laboratory-medicine/
ATTACH;FMTTYPE=image/png:https://sscc.med.sa/wp-content/uploads/2021/09/3rd-International-Meeting-3-1.png
ORGANIZER;CN="Saudi Society for Clinical Chemistry":MAILTO:info@sscc.med.sa
END:VEVENT
BEGIN:VEVENT
DTSTART;TZID=Asia/Riyadh:20211120T190000
DTEND;TZID=Asia/Riyadh:20211120T210000
DTSTAMP:20260425T233858
CREATED:20211114T144129Z
LAST-MODIFIED:20220226T094451Z
UID:3962-1637434800-1637442000@sscc.med.sa
SUMMARY:Webinar: Successful Strategy for Laboratory Accreditation
DESCRIPTION:
URL:https://sscc.med.sa/event/webinar-successful-strategy-for-laboratory-accreditation/
ATTACH;FMTTYPE=image/jpeg:https://sscc.med.sa/wp-content/uploads/2021/11/20-November.jpg
ORGANIZER;CN="Saudi Society for Clinical Chemistry":MAILTO:info@sscc.med.sa
END:VEVENT
BEGIN:VEVENT
DTSTART;TZID=Asia/Riyadh:20211114T203000
DTEND;TZID=Asia/Riyadh:20211114T213000
DTSTAMP:20260425T233858
CREATED:20211110T143749Z
LAST-MODIFIED:20220226T094553Z
UID:3922-1636921800-1636925400@sscc.med.sa
SUMMARY:ندوة إلكترونية: نمط حياتنا وداء السكري
DESCRIPTION:
URL:https://sscc.med.sa/event/%d9%86%d8%af%d9%88%d8%a9-%d8%a5%d9%84%d9%83%d8%aa%d8%b1%d9%88%d9%86%d9%8a%d8%a9-%d9%86%d9%85%d8%b7-%d8%ad%d9%8a%d8%a7%d8%aa%d9%86%d8%a7-%d9%88%d8%af%d8%a7%d8%a1-%d8%a7%d9%84%d8%b3%d9%83%d8%b1%d9%8a/
ATTACH;FMTTYPE=image/jpeg:https://sscc.med.sa/wp-content/uploads/2021/11/1Awareness-Seminar.jpg
ORGANIZER;CN="Saudi Society for Clinical Chemistry":MAILTO:info@sscc.med.sa
END:VEVENT
BEGIN:VEVENT
DTSTART;TZID=Asia/Riyadh:20211109T180000
DTEND;TZID=Asia/Riyadh:20211109T193000
DTSTAMP:20260425T233858
CREATED:20211103T180552Z
LAST-MODIFIED:20211103T180552Z
UID:3810-1636480800-1636486200@sscc.med.sa
SUMMARY:Webinar: Role of Laboratory G6PD Testing and Clinical Interpretation
DESCRIPTION:
URL:https://sscc.med.sa/event/webinar-role-of-laboratory-g6pd-testing-and-clinical-interpretation/
ATTACH;FMTTYPE=image/jpeg:https://sscc.med.sa/wp-content/uploads/2021/11/7fd10acf-be35-41e4-8af9-1446619b22f4.jpg
ORGANIZER;CN="Saudi Society for Clinical Chemistry":MAILTO:info@sscc.med.sa
END:VEVENT
BEGIN:VEVENT
DTSTART;TZID=Asia/Riyadh:20211031T190000
DTEND;TZID=Asia/Riyadh:20211031T203000
DTSTAMP:20260425T233858
CREATED:20211024T170404Z
LAST-MODIFIED:20220226T094618Z
UID:3768-1635706800-1635712200@sscc.med.sa
SUMMARY:ندوة إلكترونية: سرطان الثدي بين التمكين الصحي ودور العلم
DESCRIPTION:
URL:https://sscc.med.sa/event/%d9%86%d8%af%d9%88%d8%a9-%d8%a5%d9%84%d9%83%d8%aa%d8%b1%d9%88%d9%86%d9%8a%d8%a9-%d8%b3%d8%b1%d8%b7%d8%a7%d9%86-%d8%a7%d9%84%d8%ab%d8%af%d9%8a-%d8%a8%d9%8a%d9%86-%d8%a7%d9%84%d8%aa%d9%85%d9%83%d9%8a/
ATTACH;FMTTYPE=image/jpeg:https://sscc.med.sa/wp-content/uploads/2021/10/October-flyer-webinar-linked-in-01-scaled.jpg
ORGANIZER;CN="Saudi Society for Clinical Chemistry":MAILTO:info@sscc.med.sa
END:VEVENT
BEGIN:VEVENT
DTSTART;TZID=Asia/Riyadh:20211019T190000
DTEND;TZID=Asia/Riyadh:20211019T200000
DTSTAMP:20260425T233858
CREATED:20211016T154205Z
LAST-MODIFIED:20211022T213353Z
UID:3759-1634670000-1634673600@sscc.med.sa
SUMMARY:ندوة إلكترونية: نبذة عن هشاشة العظام وعلاجها
DESCRIPTION:
URL:https://sscc.med.sa/event/%d9%86%d8%af%d9%88%d8%a9-%d8%a5%d9%84%d9%83%d8%aa%d8%b1%d9%88%d9%86%d9%8a%d8%a9-%d9%86%d8%a8%d8%b0%d8%a9-%d8%b9%d9%86-%d9%87%d8%b4%d8%a7%d8%b4%d8%a9-%d8%a7%d9%84%d8%b9%d8%b8%d8%a7%d9%85-%d9%88%d8%b9/
ATTACH;FMTTYPE=image/jpeg:https://sscc.med.sa/wp-content/uploads/2021/10/Webinar-Poster-2.jpg
ORGANIZER;CN="Saudi Society for Clinical Chemistry":MAILTO:info@sscc.med.sa
END:VEVENT
BEGIN:VEVENT
DTSTART;TZID=Asia/Riyadh:20211012T180000
DTEND;TZID=Asia/Riyadh:20211012T210000
DTSTAMP:20260425T233858
CREATED:20211006T143305Z
LAST-MODIFIED:20211015T091430Z
UID:3736-1634061600-1634072400@sscc.med.sa
SUMMARY:Webinar: POCT Series IV: Blood Gas Testing
DESCRIPTION:
URL:https://sscc.med.sa/event/webinar-poct-series-iv-blood-gas-testing/
ATTACH;FMTTYPE=image/jpeg:https://sscc.med.sa/wp-content/uploads/2021/10/4SPOCTA-PSD-2.jpg
ORGANIZER;CN="Saudi Society for Clinical Chemistry":MAILTO:info@sscc.med.sa
END:VEVENT
BEGIN:VEVENT
DTSTART;TZID=Asia/Riyadh:20210920T200000
DTEND;TZID=Asia/Riyadh:20210920T213000
DTSTAMP:20260425T233858
CREATED:20210915T145350Z
LAST-MODIFIED:20210928T173759Z
UID:3715-1632168000-1632173400@sscc.med.sa
SUMMARY:4th SSCC Journal Club Meeting 2021
DESCRIPTION:
URL:https://sscc.med.sa/event/4th-sscc-journal-club-meeting-2021/
ATTACH;FMTTYPE=image/jpeg:https://sscc.med.sa/wp-content/uploads/2021/09/4Journal-Club-4-PSD.jpg
ORGANIZER;CN="Saudi Society for Clinical Chemistry":MAILTO:info@sscc.med.sa
END:VEVENT
BEGIN:VEVENT
DTSTART;TZID=Asia/Riyadh:20210917T150000
DTEND;TZID=Asia/Riyadh:20210917T170000
DTSTAMP:20260425T233859
CREATED:20210910T203508Z
LAST-MODIFIED:20210928T173643Z
UID:3694-1631890800-1631898000@sscc.med.sa
SUMMARY:Webinar: Patient Safety in Acute Care setting: The role of Point of Care testing in patient safety\, implications on clinical practice
DESCRIPTION:
URL:https://sscc.med.sa/event/webinar-patient-safety-in-acute-care-setting-the-role-of-point-of-care-testing-in-patient-safety-implications-on-clinical-practice/
ATTACH;FMTTYPE=image/jpeg:https://sscc.med.sa/wp-content/uploads/2021/09/PHOTO-2021-09-10-20-52-35.jpg
ORGANIZER;CN="Saudi Society for Clinical Chemistry":MAILTO:info@sscc.med.sa
END:VEVENT
BEGIN:VEVENT
DTSTART;TZID=Asia/Riyadh:20210914T190000
DTEND;TZID=Asia/Riyadh:20210914T203000
DTSTAMP:20260425T233859
CREATED:20210904T180113Z
LAST-MODIFIED:20210917T220744Z
UID:3675-1631646000-1631651400@sscc.med.sa
SUMMARY:Webinar: Series Laboratory Biomarkers of Diseases: COVID-19 Disease: Vaccination & Serology Markers
DESCRIPTION:
URL:https://sscc.med.sa/event/webinar-series-laboratory-biomarkers-of-diseases-covid-19-disease-vaccination-serology-markers/
ATTACH;FMTTYPE=image/jpeg:https://sscc.med.sa/wp-content/uploads/2021/09/b260cf6440fa9e-scaled.jpg
ORGANIZER;CN="Saudi Society for Clinical Chemistry":MAILTO:info@sscc.med.sa
END:VEVENT
BEGIN:VEVENT
DTSTART;TZID=Asia/Riyadh:20210714T180000
DTEND;TZID=Asia/Riyadh:20210714T190000
DTSTAMP:20260425T233859
CREATED:20210709T092612Z
LAST-MODIFIED:20210827T210040Z
UID:3562-1626285600-1626289200@sscc.med.sa
SUMMARY:Improving Pre-Analytical Practice for Blood Gases and Related Analytes workshop
DESCRIPTION:
URL:https://sscc.med.sa/event/improving-pre-analytical-practice-for-blood-gases-and-related-analytes-workshop/
ATTACH;FMTTYPE=image/jpeg:https://sscc.med.sa/wp-content/uploads/2021/07/d1907c4f-5d3b-42c3-8e2a-bd1beabae69d.jpg
ORGANIZER;CN="Saudi Society for Clinical Chemistry":MAILTO:info@sscc.med.sa
END:VEVENT
BEGIN:VEVENT
DTSTART;TZID=Asia/Riyadh:20210615T193000
DTEND;TZID=Asia/Riyadh:20210615T213000
DTSTAMP:20260425T233859
CREATED:20210611T074721Z
LAST-MODIFIED:20210626T132515Z
UID:3478-1623785400-1623792600@sscc.med.sa
SUMMARY:3rd SSCC Journal Club Meeting 2021
DESCRIPTION:
URL:https://sscc.med.sa/event/3rd-sscc-journal-club-meeting-2021/
ATTACH;FMTTYPE=image/jpeg:https://sscc.med.sa/wp-content/uploads/2021/06/3Journal-Club-3-PSD-1-1.jpg
ORGANIZER;CN="Saudi Society for Clinical Chemistry":MAILTO:info@sscc.med.sa
END:VEVENT
BEGIN:VEVENT
DTSTART;TZID=Asia/Riyadh:20210608T190000
DTEND;TZID=Asia/Riyadh:20210608T210000
DTSTAMP:20260425T233859
CREATED:20210601T201229Z
LAST-MODIFIED:20210626T132820Z
UID:3405-1623178800-1623186000@sscc.med.sa
SUMMARY:Webinar: POCT Series III: Coagulation
DESCRIPTION:
URL:https://sscc.med.sa/event/webinar-poct-series-iii-coagulation/
ATTACH;FMTTYPE=image/jpeg:https://sscc.med.sa/wp-content/uploads/2021/06/3SPOCTA-PSD.jpg
ORGANIZER;CN="Saudi Society for Clinical Chemistry":MAILTO:info@sscc.med.sa
END:VEVENT
END:VCALENDAR